BEGIN:VCALENDAR
VERSION:2.0
PRODID:Events Booking
BEGIN:VEVENT
UID:69e82eb71e772
SUMMARY:TD Synnex - Cisco HMF
DESCRIPTION:
LOCATION:Avenida Dom João II\, Lisbon\, 1990-076\, Portugal
DTSTART:20251005T230000Z
DTEND:20251005T210000Z
DTSTAMP:20250930T185543Z
ORGANIZER;CN=Cisco Security Workshops:MAILTO:no-reply@ciscosecurityworkshop
 .com
GEO:38.762378;-9.098997
X-APPLE-STRUCTURED-LOCATION;VALUE=URI;X-ADDRESS=Avenida Dom João II\, Lisb
 on\, 1990-076\, Portugal;X-APPLE-RADIUS=72;X-TITLE=TD Synnex Lisbon:38.762
 378;-9.098997
END:VEVENT
END:VCALENDAR