BEGIN:VCALENDAR
VERSION:2.0
PRODID:Events Booking
BEGIN:VEVENT
UID:69e8300e658c0
SUMMARY:TD Synnex - Cisco HMF
DESCRIPTION:
DTSTART:20251007T070000Z
DTEND:20251007T170000Z
DTSTAMP:20251003T192935Z
ORGANIZER;CN=Cisco Security Workshops:MAILTO:no-reply@ciscosecurityworkshop
 .com
END:VEVENT
END:VCALENDAR