BEGIN:VCALENDAR
VERSION:2.0
PRODID:Events Booking
BEGIN:VEVENT
UID:69e8311a37493
SUMMARY:TD Synnex - Cisco HMF
DESCRIPTION:
DTSTART:20251009T070000Z
DTEND:20251009T170000Z
DTSTAMP:20251003T193116Z
ORGANIZER;CN=Cisco Security Workshops:MAILTO:no-reply@ciscosecurityworkshop
 .com
END:VEVENT
END:VCALENDAR