BEGIN:VCALENDAR
VERSION:2.0
PRODID:Events Booking
BEGIN:VEVENT
UID:69e83154e0c40
SUMMARY:TD Synnex - Cisco HMF
DESCRIPTION:
LOCATION:Avenida da Boavista\, Porto\, 4100-130\, Portugal
DTSTART:20251011T070000Z
DTEND:20251011T170000Z
DTSTAMP:20251003T193344Z
ORGANIZER;CN=Cisco Security Workshops:MAILTO:no-reply@ciscosecurityworkshop
 .com
GEO:41.15945;-8.639334
X-APPLE-STRUCTURED-LOCATION;VALUE=URI;X-ADDRESS=Avenida da Boavista\, Porto
 \, 4100-130\, Portugal;X-APPLE-RADIUS=72;X-TITLE=TD Synnex - Porto:41.1594
 5;-8.639334
END:VEVENT
END:VCALENDAR