BEGIN:VCALENDAR
VERSION:2.0
PRODID:Events Booking
BEGIN:VEVENT
UID:69e8305315e30
SUMMARY:TD Synnex - Cisco HMF
DESCRIPTION:
LOCATION:Calle Larrazko kalea\, Ansoáin / Antsoain\, 31013 Navarre\, Spain
DTSTART:20251016T040000Z
DTEND:20251016T160000Z
DTSTAMP:20251015T092553Z
ORGANIZER;CN=Cisco Security Workshops:MAILTO:no-reply@ciscosecurityworkshop
 .com
GEO:42.834805;-1.646252
X-APPLE-STRUCTURED-LOCATION;VALUE=URI;X-ADDRESS=Calle Larrazko kalea\, Anso
 áin / Antsoain\, 31013 Navarre\, Spain;X-APPLE-RADIUS=72;X-TITLE=Laboren 
 Formacion:42.834805;-1.646252
END:VEVENT
END:VCALENDAR