BEGIN:VCALENDAR
VERSION:2.0
PRODID:Events Booking
BEGIN:VEVENT
UID:69e82efb58650
SUMMARY:TD Synnex - Cisco HMF
DESCRIPTION:
LOCATION:Palma de Mallorca\, 07012 Balearic Islands\, Spain
DTSTART:20251021T060000Z
DTEND:20251021T200000Z
DTSTAMP:20251020T084410Z
ORGANIZER;CN=Cisco Security Workshops:MAILTO:no-reply@ciscosecurityworkshop
 .com
GEO:39.571903;2.642159
X-APPLE-STRUCTURED-LOCATION;VALUE=URI;X-ADDRESS=Palma de Mallorca\, 07012 B
 alearic Islands\, Spain;X-APPLE-RADIUS=72;X-TITLE=Hotel Saratoga Palma Mal
 lorca:39.571903;2.642159
END:VEVENT
END:VCALENDAR