BEGIN:VCALENDAR
VERSION:2.0
PRODID:Events Booking
BEGIN:VEVENT
UID:69ea06154318f
SUMMARY:TD Synnex - Cisco HMF (Austria)
DESCRIPTION:
DTSTART:20260506T070000Z
DTEND:20260506T150000Z
DTSTAMP:20260417T095728Z
ORGANIZER;CN=Cisco Security Workshops:MAILTO:no-reply@ciscosecurityworkshop
 .com
END:VEVENT
END:VCALENDAR