BEGIN:VCALENDAR
VERSION:2.0
PRODID:Events Booking
BEGIN:VEVENT
UID:69ea072a1061d
SUMMARY:TD Synnex - Cisco HMF (Belgium)
DESCRIPTION:
DTSTART:20260507T070000Z
DTEND:20260507T150000Z
DTSTAMP:20260320T051651Z
ORGANIZER;CN=Cisco Security Workshops:MAILTO:no-reply@ciscosecurityworkshop
 .com
END:VEVENT
END:VCALENDAR