BEGIN:VCALENDAR
VERSION:2.0
PRODID:Events Booking
BEGIN:VEVENT
UID:69ea0789742b4
SUMMARY:TD Synnex - Cisco HMF (Czech Republic)
DESCRIPTION:
DTSTART:20260423T070000Z
DTEND:20260423T150000Z
DTSTAMP:20260417T161236Z
ORGANIZER;CN=Cisco Security Workshops:MAILTO:no-reply@ciscosecurityworkshop
 .com
END:VEVENT
END:VCALENDAR