BEGIN:VCALENDAR
VERSION:2.0
PRODID:Events Booking
BEGIN:VEVENT
UID:69ea55cbba77b
SUMMARY:TD Synnex - Cisco HMF (Czech Republic)
DESCRIPTION:
DTSTART:20260129T070000Z
DTEND:20260129T170000Z
DTSTAMP:20260128T091215Z
ORGANIZER;CN=Cisco Security Workshops:MAILTO:no-reply@ciscosecurityworkshop
 .com
END:VEVENT
END:VCALENDAR