BEGIN:VCALENDAR
VERSION:2.0
PRODID:Events Booking
BEGIN:VEVENT
UID:69ea0c9711f1c
SUMMARY:TD Synnex - Cisco HMF (Czechia)
DESCRIPTION:
LOCATION:Avenue Léonard de Vinci\, Courbevoie\, 92400 Île-de-France\, Fra
 nce
DTSTART:20260423T070000Z
DTEND:20260423T150000Z
DTSTAMP:20260403T090059Z
ORGANIZER;CN=Cisco Security Workshops:MAILTO:no-reply@ciscosecurityworkshop
 .com
GEO:48.896608;2.238627
X-APPLE-STRUCTURED-LOCATION;VALUE=URI;X-ADDRESS=Avenue Léonard de Vinci\, 
 Courbevoie\, 92400 Île-de-France\, France;X-APPLE-RADIUS=72;X-TITLE=TD Sy
 nnex :48.896608;2.238627
END:VEVENT
END:VCALENDAR