BEGIN:VCALENDAR
VERSION:2.0
PRODID:Events Booking
BEGIN:VEVENT
UID:69e8320f675fe
SUMMARY:TD Synnex - Cisco HMF (Italy)
DESCRIPTION:
DTSTART:20260122T070000Z
DTEND:20260122T170000Z
DTSTAMP:20260120T131818Z
ORGANIZER;CN=Cisco Security Workshops:MAILTO:no-reply@ciscosecurityworkshop
 .com
END:VEVENT
END:VCALENDAR