BEGIN:VCALENDAR
VERSION:2.0
PRODID:Events Booking
BEGIN:VEVENT
UID:69ea0729df8e5
SUMMARY:TD Synnex - Cisco HMF (Nordics)
DESCRIPTION:
DTSTART:20260427T070000Z
DTEND:20260427T150000Z
DTSTAMP:20260417T194201Z
ORGANIZER;CN=Cisco Security Workshops:MAILTO:no-reply@ciscosecurityworkshop
 .com
END:VEVENT
END:VCALENDAR