BEGIN:VCALENDAR
VERSION:2.0
PRODID:Events Booking
BEGIN:VEVENT
UID:69ea087740941
SUMMARY:TD Synnex - Cisco HMF (Portugal)
DESCRIPTION:
DTSTART:20260429T080000Z
DTEND:20260429T160000Z
DTSTAMP:20260417T195238Z
ORGANIZER;CN=Cisco Security Workshops:MAILTO:no-reply@ciscosecurityworkshop
 .com
END:VEVENT
END:VCALENDAR