BEGIN:VCALENDAR
VERSION:2.0
PRODID:Events Booking
BEGIN:VEVENT
UID:69ea07d13d90a
SUMMARY:TD Synnex - Cisco HMF (Portugal)
DESCRIPTION:
DTSTART:20260428T080000Z
DTEND:20260428T160000Z
DTSTAMP:20260417T194955Z
ORGANIZER;CN=Cisco Security Workshops:MAILTO:no-reply@ciscosecurityworkshop
 .com
END:VEVENT
END:VCALENDAR