BEGIN:VCALENDAR
VERSION:2.0
PRODID:Events Booking
BEGIN:VEVENT
UID:69e8250431894
SUMMARY:TD Synnex -Cisco Hybrid Mesh Firewall
DESCRIPTION:
LOCATION:Aleje Jerozolimskie\, Warsaw\, 02-486 Masovian Voivodeship\, Polan
 d
DTSTART:20250924T010000Z
DTEND:20250924T230000Z
DTSTAMP:20250915T121644Z
ORGANIZER;CN=Cisco Security Workshops:MAILTO:no-reply@ciscosecurityworkshop
 .com
GEO:52.191247;20.919147
X-APPLE-STRUCTURED-LOCATION;VALUE=URI;X-ADDRESS=Aleje Jerozolimskie\, Warsa
 w\, 02-486 Masovian Voivodeship\, Poland;X-APPLE-RADIUS=72;X-TITLE=TD Synn
 ex - Poland:52.191247;20.919147
END:VEVENT
END:VCALENDAR