BEGIN:VCALENDAR
VERSION:2.0
PRODID:Events Booking
BEGIN:VEVENT
UID:69ea4705e3738
SUMMARY:TDSynnex - Cisco HMF Workshop (France)
DESCRIPTION:
LOCATION:Avenue Léonard de Vinci\, Courbevoie\, 92400 Île-de-France\, Fra
 nce
DTSTART:20260407T050000Z
DTEND:20260407T215500Z
DTSTAMP:20260402T074442Z
ORGANIZER;CN=Cisco Security Workshops:MAILTO:no-reply@ciscosecurityworkshop
 .com
GEO:48.896608;2.238627
X-APPLE-STRUCTURED-LOCATION;VALUE=URI;X-ADDRESS=Avenue Léonard de Vinci\, 
 Courbevoie\, 92400 Île-de-France\, France;X-APPLE-RADIUS=72;X-TITLE=TD Sy
 nnex :48.896608;2.238627
END:VEVENT
END:VCALENDAR