BEGIN:VCALENDAR
VERSION:2.0
PRODID:Events Booking
BEGIN:VEVENT
UID:69ea7e81322e8
SUMMARY:Test
DESCRIPTION:
DTSTART:20260304T120000Z
DTEND:20260304T220000Z
DTSTAMP:20260304T101850Z
ORGANIZER;CN=Cisco Security Workshops:MAILTO:no-reply@ciscosecurityworkshop
 .com
END:VEVENT
END:VCALENDAR