BEGIN:VCALENDAR
VERSION:2.0
PRODID:Events Booking
BEGIN:VEVENT
UID:69ea0f943e0f9
SUMMARY:Test Breach Protection
DESCRIPTION:Can't seem to access the contents/lab\, so creating this test e
 vent in order to see if I can access it. Have complete the TTT contents\, 
 but it is not showing on the list of proctors\, so have roped in Martin's 
 name for now - Sorry Martin. 
LOCATION:Pacific Highway\, North Sydney Council\, 2065 New South Wales\, Au
 stralia
DTSTART:20260115T220000Z
DTEND:20260115T120000Z
DTSTAMP:20260114T223041Z
ORGANIZER;CN=Cisco Security Workshops:MAILTO:no-reply@ciscosecurityworkshop
 .com
GEO:-33.831021;151.203315
X-APPLE-STRUCTURED-LOCATION;VALUE=URI;X-ADDRESS=Pacific Highway\, North Syd
 ney Council\, 2065 New South Wales\, Australia;X-APPLE-RADIUS=72;X-TITLE=N
 orth Sydney:-33.831021;151.203315
END:VEVENT
END:VCALENDAR