BEGIN:VCALENDAR
VERSION:2.0
PRODID:Events Booking
BEGIN:VEVENT
UID:69ea7f0f26f98
SUMMARY:Test (Documentation)[Avery Adams]
DESCRIPTION:
LOCATION:Virtual
DTSTART:20251121T100000Z
DTEND:20251121T140000Z
DTSTAMP:20251117T235316Z
ORGANIZER;CN=Cisco Security Workshops:MAILTO:no-reply@ciscosecurityworkshop
 .com
GEO:25;-80.226529
X-APPLE-STRUCTURED-LOCATION;VALUE=URI;X-ADDRESS=Virtual;X-APPLE-RADIUS=72;X
 -TITLE=Virtual:25;-80.226529
END:VEVENT
END:VCALENDAR