BEGIN:VCALENDAR
VERSION:2.0
PRODID:Events Booking
BEGIN:VEVENT
UID:69ea0e1f60752
SUMMARY:Test Event
DESCRIPTION:This is a test to see if adding procotors creates extra groups 
 in Moodle
DTSTART:20260305T100000Z
DTEND:20260305T140000Z
DTSTAMP:20260304T161345Z
ORGANIZER;CN=Cisco Security Workshops:MAILTO:no-reply@ciscosecurityworkshop
 .com
END:VEVENT
END:VCALENDAR