BEGIN:VCALENDAR
VERSION:2.0
PRODID:Events Booking
BEGIN:VEVENT
UID:69ea4da0d8851
SUMMARY:Test_Event_Roland_2
DESCRIPTION:
LOCATION:Parkring\, Garching bei München\, 85748 Bavaria\, Germany
DTSTART:20251219T110000Z
DTEND:20251219T150000Z
DTSTAMP:20251219T103835Z
ORGANIZER;CN=Cisco Security Workshops:MAILTO:no-reply@ciscosecurityworkshop
 .com
GEO:48.250821;11.635555
X-APPLE-STRUCTURED-LOCATION;VALUE=URI;X-ADDRESS=Parkring\, Garching bei Mü
 nchen\, 85748 Bavaria\, Germany;X-APPLE-RADIUS=72;X-TITLE=Cisco Office Mun
 ich:48.250821;11.635555
END:VEVENT
END:VCALENDAR