BEGIN:VCALENDAR
VERSION:2.0
PRODID:Events Booking
BEGIN:VEVENT
UID:69e96fd8d027a
SUMMARY:test HMF
DESCRIPTION:Test 
LOCATION:Germany
DTSTART:20251128T100000Z
DTEND:20251128T130000Z
DTSTAMP:20251128T092859Z
ORGANIZER;CN=Cisco Security Workshops:MAILTO:no-reply@ciscosecurityworkshop
 .com
GEO:53.550341;10.000654
X-APPLE-STRUCTURED-LOCATION;VALUE=URI;X-ADDRESS=Germany;X-APPLE-RADIUS=72;X
 -TITLE=Hamburg:53.550341;10.000654
END:VEVENT
END:VCALENDAR