BEGIN:VCALENDAR
VERSION:2.0
PRODID:Events Booking
BEGIN:VEVENT
UID:69ea489383ef4
SUMMARY:TEST HMF PM
DESCRIPTION:
DTSTART:20251115T050000Z
DTEND:20251115T195500Z
DTSTAMP:20251114T131050Z
ORGANIZER;CN=Cisco Security Workshops:MAILTO:no-reply@ciscosecurityworkshop
 .com
END:VEVENT
END:VCALENDAR