BEGIN:VCALENDAR
VERSION:2.0
PRODID:Events Booking
BEGIN:VEVENT
UID:69ea48e156bcd
SUMMARY:Test HMF Project Meteor
DESCRIPTION:
LOCATION:Kyiv\, Ukraine
DTSTART:20251224T060000Z
DTEND:20251224T210000Z
DTSTAMP:20251223T184003Z
ORGANIZER;CN=Cisco Security Workshops:MAILTO:no-reply@ciscosecurityworkshop
 .com
GEO:50.453518;30.516066
X-APPLE-STRUCTURED-LOCATION;VALUE=URI;X-ADDRESS=Kyiv\, Ukraine;X-APPLE-RADI
 US=72;X-TITLE=Kyiv:50.453518;30.516066
END:VEVENT
END:VCALENDAR