BEGIN:VCALENDAR
VERSION:2.0
PRODID:Events Booking
BEGIN:VEVENT
UID:69ea49468adde
SUMMARY:TEST HMF Reignite
DESCRIPTION:password test
LOCATION:Digital City\, Riyadh
DTSTART:20251116T060000Z
DTEND:20251116T200000Z
DTSTAMP:20251115T211903Z
ORGANIZER;CN=Cisco Security Workshops:MAILTO:no-reply@ciscosecurityworkshop
 .com
GEO:24.7404;46.6354
X-APPLE-STRUCTURED-LOCATION;VALUE=URI;X-ADDRESS=Digital City\, Riyadh;X-APP
 LE-RADIUS=72;X-TITLE=Cisco Office Riyadh:24.7404;46.6354
END:VEVENT
END:VCALENDAR