BEGIN:VCALENDAR
VERSION:2.0
PRODID:Events Booking
BEGIN:VEVENT
UID:69e85c80eb0e5
SUMMARY:Test_Ignite
DESCRIPTION:
LOCATION:500 Beaver Brook Rd
DTSTART:20250731T010000Z
DTEND:20250731T230000Z
DTSTAMP:20250731T151540Z
ORGANIZER;CN=Cisco Security Workshops:MAILTO:no-reply@ciscosecurityworkshop
 .com
END:VEVENT
END:VCALENDAR