BEGIN:VCALENDAR
VERSION:2.0
PRODID:Events Booking
BEGIN:VEVENT
UID:69ea0c60ee247
SUMMARY:Test Jamie
DESCRIPTION:
 The Hybrid Mesh Firewall: Project Meteor workshop is design
 ed to equip participants with the knowledge and hands-on experience needed
  to modernize firewall strategies using Cisco’s Hybrid Mesh Firewall tec
 hnology. This innovative solution unifies security across data centers\, c
 loud\, campus\, and IoT environments\, providing a highly distributed secu
 rity fabric.
 During this session\, you will step into the shoes of a fic
 tional engineer at PseudoCo and work through real-world scenarios that hig
 hlight the power and flexibility of Cisco’s security solutions.
 The wo
 rkshop will make extensive use of Cisco Security Cloud Control and cover t
 opics such as deployment\, SD-WAN configuration\, shared objects managemen
 t\, and application segmentation. This is a great opportunity to build han
 ds-on experience and deepen your understanding of modern network security 
 practices through a self-paced workshop. 
 
 Key Takeaways
 
 Clear u
 nderstanding of Cisco’s Hybrid Mesh Firewall solution and its advantages
 
 Gain hands-on experience with Cisco Security Cloud Control for centrali
 zed and extensive security management
 Understand how to configure SD-WAN
  for optimized and secure network connectivity
 Explore enhanced cloud vi
 sibility to monitor and protect distributed applications and data
 Deepen
  your knowledge of Shared Objects and their role in efficient policy manag
 ement
 Master application segmentation techniques using both endpoint age
 nts and the firewall for comprehensive security.
 
 
 Who Should Attend
 
 
 Anyone involved in firewall management\, policy enforcement\, or sec
 urity modernization initiatives
 
 
 Workshop Format
 
 Duration: 2 h
 ours 
 Structure: A multi-phase\, self-contained hands-on workshop
 Phas
 es Include:
 
 Onboarding firewalls and simplifying branch connectivity
 
 Integrating cloud policies and multi-cloud defense
 Configuring segment
 ation for workloads and applications
 Testing threat detection capabiliti
 es including encrypted traffic inspection
 
 
 Tools Used: Cisco Securi
 ty Cloud Control\, Secure Firewall\, Multi-cloud Defense and Secure Worklo
 ad
 
 
 
 Prerequisites
 
 Cisco account registration (CCOID) – Cl
 ick here for more information
 Cisco Security Workshop account registrati
 on – Click here to register
 Basic understanding of firewall concepts a
 nd network security
 
 
 
 Why Attend This Workshop
 In today’s com
 plex and rapidly evolving threat landscape\, traditional firewall approach
 es are no longer sufficient. The Hybrid Mesh Firewall: Project Meteor work
 shop empowers you to modernize your security posture by adopting a distrib
 uted firewall fabric that scales with your enterprise needs. Attendees wil
 l gain practical skills to reduce attack surfaces\, prevent lateral moveme
 nt\, and protect critical applications across hybrid environments. This wo
 rkshop offers a unique opportunity to experience Cisco’s cutting-edge fi
 rewall technology firsthand\, enabling you to lead your organization’s s
 ecurity transformation with confidence and agility.
LOCATION:Anywhere
DTSTART:20260317T100000Z
DTEND:20260317T140000Z
DTSTAMP:20260317T134351Z
ORGANIZER;CN=Cisco Security Workshops:MAILTO:no-reply@ciscosecurityworkshop
 .com
GEO:86.4;166.3
X-APPLE-STRUCTURED-LOCATION;VALUE=URI;X-ADDRESS=Anywhere;X-APPLE-RADIUS=72;
 X-TITLE=Virtual:86.4;166.3
END:VEVENT
END:VCALENDAR