BEGIN:VCALENDAR
VERSION:2.0
PRODID:Events Booking
BEGIN:VEVENT
UID:69ea470189161
SUMMARY:Test PseudoCo Project workshop
DESCRIPTION:
LOCATION:Singapore
DTSTART:20260406T090000Z
DTEND:20260406T150000Z
DTSTAMP:20260405T161140Z
ORGANIZER;CN=Cisco Security Workshops:MAILTO:no-reply@ciscosecurityworkshop
 .com
GEO:1.289918;103.851907
X-APPLE-STRUCTURED-LOCATION;VALUE=URI;X-ADDRESS=Singapore;X-APPLE-RADIUS=72
 ;X-TITLE=Singapore:1.289918;103.851907
END:VEVENT
END:VCALENDAR