BEGIN:VCALENDAR
VERSION:2.0
PRODID:Events Booking
BEGIN:VEVENT
UID:69ea7e827571c
SUMMARY:Test2
DESCRIPTION:
DTSTART:20260305T100000Z
DTEND:20260305T140000Z
DTSTAMP:20260304T163203Z
ORGANIZER;CN=Cisco Security Workshops:MAILTO:no-reply@ciscosecurityworkshop
 .com
END:VEVENT
END:VCALENDAR