BEGIN:VCALENDAR
VERSION:2.0
PRODID:Events Booking
BEGIN:VEVENT
UID:69ea0ce9adee6
SUMMARY:TestDateChange
DESCRIPTION:
DTSTART:20260130T080000Z
DTEND:20260129T100000Z
DTSTAMP:20260127T160920Z
ORGANIZER;CN=Cisco Security Workshops:MAILTO:no-reply@ciscosecurityworkshop
 .com
END:VEVENT
END:VCALENDAR