BEGIN:VCALENDAR
VERSION:2.0
PRODID:Events Booking
BEGIN:VEVENT
UID:69ea0d660ad9f
SUMMARY:TestPVT
DESCRIPTION:Testing
LOCATION:Finsbury Circus\, City of London\, EC2M 7AZ England\, United Kingd
 om
DTSTART:20250910T230000Z
DTEND:20250910T225500Z
DTSTAMP:20250909T093122Z
ORGANIZER;CN=Cisco Security Workshops:MAILTO:no-reply@ciscosecurityworkshop
 .com
GEO:51.51746;-0.085702
X-APPLE-STRUCTURED-LOCATION;VALUE=URI;X-ADDRESS=Finsbury Circus\, City of L
 ondon\, EC2M 7AZ England\, United Kingdom;X-APPLE-RADIUS=72;X-TITLE=Cisco 
 Office London:51.51746;-0.085702
END:VEVENT
END:VCALENDAR