BEGIN:VCALENDAR
VERSION:2.0
PRODID:Events Booking
BEGIN:VEVENT
UID:69ea5398529ed
SUMMARY:Toronto CyberTech day - Hybrid Mesh Firewall Lab - Partner Edition
DESCRIPTION:Toronto CyberTech Day - Partner Edition - March 23rd 2026 - Hyb
 rid Mesh Firewall Lab Event
 Project 'Meteor' 
 PseudoCo's project Mete
 or was created to modernise their firewall estate due to a proliferation 
 of applications\, the rise of AI technologies\, and an increasingly mobil
 e workforce which continues to expand the attack surface.
 PseudoCo cho
 se Cisco's Hybrid Mesh Firewall because it is a highly distributed securi
 ty fabric managed under a single interface (Security Cloud Control) that 
 protects applications no matter where they live. It makes it easy for the
 m to reduce the attack surface\, prevent compromise\, and stop lateral mo
 vement in their data center\, cloud\, campus\, and factory.
 Project Mete
 or has been broken up into 3 key phases to reduce disruption to the workfo
 rce:
 Phase 1 Network Zone Based Segmentation &amp\; DC Edge: Login to C
 isco Security Cloud Control\, onboard physical firewalls\, create policy t
 o identify applications\, simplify branch connectivity and configure Polic
 y Based Routing
 Phase 2 Cloud Edge: Login to Cisco Security Cloud Contr
 ol\, enable cloud visibility\, gather DNS flow logs\, shared objects and s
 etup tagging
 Phase 3 Macro/Micro Segmentation: Login to Cisco Security 
 Cloud Control and configure policy to protect application workloads
LOCATION:88 Queens Quay West\, Toronto\, M5J 2J2 Ontario\, Canada
DTSTART:20260323T140000Z
DTEND:20260323T210000Z
DTSTAMP:20260311T191018Z
ORGANIZER;CN=Cisco Security Workshops:MAILTO:no-reply@ciscosecurityworkshop
 .com
GEO:43.640948;-79.378169
X-APPLE-STRUCTURED-LOCATION;VALUE=URI;X-ADDRESS=88 Queens Quay West\, Toron
 to\, M5J 2J2 Ontario\, Canada;X-APPLE-RADIUS=72;X-TITLE=Toronto Office :43
 .640948;-79.378169
END:VEVENT
END:VCALENDAR