BEGIN:VCALENDAR
VERSION:2.0
PRODID:Events Booking
BEGIN:VEVENT
UID:69ea4adf08f53
SUMMARY:Toronto CyberTech Day - Hybrid Mesh Firewall Lab
DESCRIPTION:Toronto CyberTech Day April 1st 2026 - Hybrid Mesh Firewall Lab
  Event
 Project 'Meteor' 
 PseudoCo's project Meteor was created to mod
 ernise their firewall estate due to a proliferation of applications\, the
  rise of AI technologies\, and an increasingly mobile workforce which co
 ntinues to expand the attack surface.
 PseudoCo chose Cisco's Hybrid Mes
 h Firewall because it is a highly distributed security fabric managed un
 der a single interface (Security Cloud Control) that protects applications
  no matter where they live. It makes it easy for them to reduce the attac
 k surface\, prevent compromise\, and stop lateral movement in their data 
 center\, cloud\, campus\, and factory.
 Project Meteor has been broken up
  into 3 key phases to reduce disruption to the workforce:
 Phase 1 Networ
 k Zone Based Segmentation &amp\; DC Edge: Login to Cisco Security Cloud C
 ontrol\, onboard physical firewalls\, create policy to identify applicatio
 ns\, simplify branch connectivity and configure Policy Based Routing
 Pha
 se 2 Cloud Edge: Login to Cisco Security Cloud Control\, enable cloud vis
 ibility\, gather DNS flow logs\, shared objects and setup tagging
 Phase 
 3 Macro/Micro Segmentation: Login to Cisco Security Cloud Control and con
 figure policy to protect application workloads
LOCATION:88 Queens Quay West\, Toronto\, M5J 2J2 Ontario\, Canada
DTSTART:20260401T140000Z
DTEND:20260404T020000Z
DTSTAMP:20260305T155811Z
ORGANIZER;CN=Cisco Security Workshops:MAILTO:no-reply@ciscosecurityworkshop
 .com
GEO:43.640948;-79.378169
X-APPLE-STRUCTURED-LOCATION;VALUE=URI;X-ADDRESS=88 Queens Quay West\, Toron
 to\, M5J 2J2 Ontario\, Canada;X-APPLE-RADIUS=72;X-TITLE=Toronto Office :43
 .640948;-79.378169
END:VEVENT
END:VCALENDAR