BEGIN:VCALENDAR
VERSION:2.0
PRODID:Events Booking
BEGIN:VEVENT
UID:69ea47a259d76
SUMMARY:Trace3 HMFW Customer Workshop Atlanta
DESCRIPTION:The Hybrid Mesh Firewall: Project Meteor workshop is designed
  to equip participants with the knowledge and hands-on experience needed t
 o modernize firewall strategies using Cisco’s Hybrid Mesh Firewall techn
 ology. This innovative solution unifies security across data centers\, clo
 ud\, campus\, and IoT environments\, providing a highly distributed securi
 ty fabric.
 During this session\, you will step into the shoes of a ficti
 onal engineer at PseudoCo and work through real-world scenarios that highl
 ight the power and flexibility of Cisco’s security solutions.
 The work
 shop will make extensive use of Cisco Security Cloud Control and cover t
 opics such as deployment\, SD-WAN configuration\, shared objects manageme
 nt\, and application segmentation. This is a great opportunity to build ha
 nds-on experience and deepen your understanding of modern network security
  practices through a self-paced workshop.756 W Peachtree St NW21st Floor\,
  Memorial Drive Conference RmAtlanta\, Georgia 30308
LOCATION:756 W Peachtree St NW Atlanta\, Georgia 30308 United States
DTSTART:20260414T140000Z
DTEND:20260415T035500Z
DTSTAMP:20260317T182150Z
ORGANIZER;CN=Cisco Security Workshops:MAILTO:no-reply@ciscosecurityworkshop
 .com
GEO:33.775314;-84.387418
X-APPLE-STRUCTURED-LOCATION;VALUE=URI;X-ADDRESS=756 W Peachtree St NW Atlan
 ta\, Georgia 30308 United States;X-APPLE-RADIUS=72;X-TITLE=Cisco Office At
 lanta:33.775314;-84.387418
END:VEVENT
END:VCALENDAR