BEGIN:VCALENDAR
VERSION:2.0
PRODID:Events Booking
BEGIN:VEVENT
UID:69ea562be0662
SUMMARY:Trace3 Hybrid Mesh Firewall Customer Workshop
DESCRIPTION:
 You have been brought in to help PseudoCo\, a multi-billio
 n-dollar corporation headquartered in London\, England. Established more t
 han 30 years ago\, PseudoCo includes services\, manufacturing\, retail\, s
 ales\, and e-commerce as critical components of its business. 
 PseudoCo
  has 50\,000+ full-time and contract employees who are spread over hundred
 s of locations worldwide. They typically run three types of offices:
 
 
 A single headquarters campus
 Regional sites
 Branch offices
 
 In add
 ition\, a growing percentage of PseudoCo’s workforce is hybrid or fully 
 remote.
 Project Meteor
 PseudoCo's Project Meteor was created to modern
 ize their firewall estate due to a proliferation of applications\, the ris
 e of AI technologies\, and an increasingly mobile workforce which contin
 ues to expand the attack surface.
 PseudoCo chose Cisco's Hybrid Mesh Fi
 rewall because it is a highly distributed security fabric managed under 
 a single interface (Security Cloud Control) that protects applications no 
 matter where they live. It makes it easy for them to reduce the attack su
 rface\, prevent compromise\, and stop lateral movement in their data cent
 er\, cloud\, campus\, and factory.
 Project Meteor has been broken up int
 o 3 key phases to reduce disruption to the workforce:
 Phase 1 Network Zo
 ne Based Segmentation &amp\; DC Edge: Login to Cisco Security Cloud Contr
 ol\, onboard physical firewalls\, create policy to identify applications\,
  simplify branch connectivity and configure Policy Based Routing
 Phase 2
  Cloud Edge: Login to Cisco Security Cloud Control\, enable cloud visibil
 ity\, gather DNS flow logs\, shared objects and setup tagging
 Phase 3 Ma
 cro/Micro Segmentation: Login to Cisco Security Cloud Control and configu
 re policy to protect application workloads
 You have been assigned to the
  firewall modernization project 'Meteor' to configure and deploy the new H
 ybrid-Mesh Firewall solution PseudoCo has purchased from Cisco.
 
 
  
 
 
LOCATION:Shelbyville Road\, Hurstbourne\, 40222 Kentucky\, United States
DTSTART:20260122T140000Z
DTEND:20260127T045500Z
DTSTAMP:20260121T230923Z
ORGANIZER;CN=Cisco Security Workshops:MAILTO:no-reply@ciscosecurityworkshop
 .com
GEO:38.246029;-85.578711
X-APPLE-STRUCTURED-LOCATION;VALUE=URI;X-ADDRESS=Shelbyville Road\, Hurstbou
 rne\, 40222 Kentucky\, United States;X-APPLE-RADIUS=72;X-TITLE=Trace3 Loui
 sville:38.246029;-85.578711
END:VEVENT
END:VCALENDAR