BEGIN:VCALENDAR
VERSION:2.0
PRODID:Events Booking
BEGIN:VEVENT
UID:69e82316c20c2
SUMMARY:Roadshow-TTT-APJC-27Mar
DESCRIPTION:
LOCATION:Virtual
DTSTART:20250324T080000Z
DTEND:20250331T230000Z
DTSTAMP:20250324T101943Z
ORGANIZER;CN=Cisco Security Workshops:MAILTO:no-reply@ciscosecurityworkshop
 .com
GEO:25;-80.226529
X-APPLE-STRUCTURED-LOCATION;VALUE=URI;X-ADDRESS=Virtual;X-APPLE-RADIUS=72;X
 -TITLE=Virtual:25;-80.226529
END:VEVENT
END:VCALENDAR