BEGIN:VCALENDAR
VERSION:2.0
PRODID:Events Booking
BEGIN:VEVENT
UID:69e82e83c5821
SUMMARY:Ukraine - Cisco HMF
DESCRIPTION:
LOCATION:Ukraine
DTSTART:20251126T080000Z
DTEND:20251126T210000Z
DTSTAMP:20251124T142602Z
ORGANIZER;CN=Cisco Security Workshops:MAILTO:no-reply@ciscosecurityworkshop
 .com
GEO:49.487197;31.271832
X-APPLE-STRUCTURED-LOCATION;VALUE=URI;X-ADDRESS=Ukraine;X-APPLE-RADIUS=72;X
 -TITLE=Ukraine:49.487197;31.271832
END:VEVENT
END:VCALENDAR