BEGIN:VCALENDAR
VERSION:2.0
PRODID:Events Booking
BEGIN:VEVENT
UID:69ea48e120a55
SUMMARY:UZTNA Training Workshop
DESCRIPTION:
DTSTART:20260106T050000Z
DTEND:20260106T195500Z
DTSTAMP:20260104T213333Z
ORGANIZER;CN=Cisco Security Workshops:MAILTO:no-reply@ciscosecurityworkshop
 .com
END:VEVENT
END:VCALENDAR