BEGIN:VCALENDAR
VERSION:2.0
PRODID:Events Booking
BEGIN:VEVENT
UID:69ea7b3dcc41a
SUMMARY:White Spider Rapid Incident Response
DESCRIPTION:Rapid Incident Response Workshop for White Spider\, Cisco Partn
 er.
LOCATION:Manchester\, M20 2SE
DTSTART:20250212T100000Z
DTEND:20250212T140000Z
DTSTAMP:20250205T095959Z
ORGANIZER;CN=Cisco Security Workshops:MAILTO:no-reply@ciscosecurityworkshop
 .com
GEO:53.416813;-2.232138
X-APPLE-STRUCTURED-LOCATION;VALUE=URI;X-ADDRESS=Manchester\, M20 2SE;X-APPL
 E-RADIUS=72;X-TITLE=Cisco Manchester:53.416813;-2.232138
END:VEVENT
END:VCALENDAR