BEGIN:VCALENDAR
VERSION:2.0
PRODID:Events Booking
BEGIN:VEVENT
UID:69e9d01eb46ff
SUMMARY:Wisetech - Secure Firewall Foundation
DESCRIPTION:
 Experience the latest innovations in Cisco Secure Firewall 1
 0.0 in this lab. Discover how the Encrypted Visibility Engine (EVE) enable
 s threat detection in encrypted traffic\, while AI-driven SnortML provides
  protection against signature-less attacks. Take advantage of expanded SD-
 WAN features and improved OT security with advanced access control and con
 tainment. Seamless Splunk integration delivers robust security analytics f
 or effective incident response. This lab will help you build the knowledge
  and skills needed to highlight the strengths of Cisco Secure Firewall 10.
 0.
LOCATION:Virtual
DTSTART:20260424T020000Z
DTEND:20260424T040000Z
DTSTAMP:20260410T015827Z
ORGANIZER;CN=Cisco Security Workshops:MAILTO:no-reply@ciscosecurityworkshop
 .com
GEO:25;-80.226529
X-APPLE-STRUCTURED-LOCATION;VALUE=URI;X-ADDRESS=Virtual;X-APPLE-RADIUS=72;X
 -TITLE=Virtual:25;-80.226529
END:VEVENT
END:VCALENDAR