BEGIN:VCALENDAR
VERSION:2.0
PRODID:Events Booking
BEGIN:VEVENT
UID:69e8236da10f5
SUMMARY:WWT SE FW Training
DESCRIPTION:Cisco FW training for WWT SEs
LOCATION:Historic Decatur Road\, San Diego\, 92106 California\, United Stat
 es
DTSTART:20251202T170000Z
DTEND:20251203T020000Z
DTSTAMP:20251124T155723Z
ORGANIZER;CN=Cisco Security Workshops:MAILTO:no-reply@ciscosecurityworkshop
 .com
GEO:32.734174;-117.216455
X-APPLE-STRUCTURED-LOCATION;VALUE=URI;X-ADDRESS=Historic Decatur Road\, San
  Diego\, 92106 California\, United States;X-APPLE-RADIUS=72;X-TITLE=WWT SD
  Office:32.734174;-117.216455
END:VEVENT
END:VCALENDAR