BEGIN:VCALENDAR
VERSION:2.0
PRODID:Events Booking
BEGIN:VEVENT
UID:69e861798e1d7
SUMMARY:FireJumper Breach Tour Africa
DESCRIPTION:
LOCATION:Cisco Systems\, Building 2\, The Ingress\, 23 Magwa Cres\, Midrand
 \, 2090\, South Africa
DTSTART:20260325T090000Z
DTEND:20260121T180000Z
DTSTAMP:20251106T075544Z
ORGANIZER;CN=Cisco Security Workshops:MAILTO:no-reply@ciscosecurityworkshop
 .com
GEO:-26.0412;28.1281
X-APPLE-STRUCTURED-LOCATION;VALUE=URI;X-ADDRESS=Cisco Systems\, Building 2\
 , The Ingress\, 23 Magwa Cres\, Midrand\, 2090\, South Africa;X-APPLE-RADI
 US=72;X-TITLE=Cisco - Midrand\, South Africa:-26.0412;28.1281
END:VEVENT
END:VCALENDAR