BEGIN:VCALENDAR
VERSION:2.0
PRODID:Events Booking
BEGIN:VEVENT
UID:69ea0d659e5d8
SUMMARY:XDR Ignite - Datatech
DESCRIPTION:
LOCATION:Hamelacha Street 32 Netanya 
DTSTART:20251210T080000Z
DTEND:20251201T160000Z
DTSTAMP:20251114T083925Z
ORGANIZER;CN=Cisco Security Workshops:MAILTO:no-reply@ciscosecurityworkshop
 .com
END:VEVENT
END:VCALENDAR