BEGIN:VCALENDAR
VERSION:2.0
PRODID:Events Booking
BEGIN:VEVENT
UID:69e9d48763bd8
SUMMARY:XDR Ignite Incubation Cohort TTT
DESCRIPTION:Welcome to the XDR Ignite Preview session!
LOCATION:Virtual
DTSTART:20250623T173000Z
DTEND:20250623T230000Z
DTSTAMP:20250623T162603Z
ORGANIZER;CN=Cisco Security Workshops:MAILTO:no-reply@ciscosecurityworkshop
 .com
GEO:25;-80.226529
X-APPLE-STRUCTURED-LOCATION;VALUE=URI;X-ADDRESS=Virtual;X-APPLE-RADIUS=72;X
 -TITLE=Virtual:25;-80.226529
END:VEVENT
END:VCALENDAR