BEGIN:VCALENDAR
VERSION:2.0
PRODID:Events Booking
BEGIN:VEVENT
UID:69e9d37584113
SUMMARY:XDR Ignite TTT
DESCRIPTION:This is the registration for the XDR Ignite train the trainer s
 ession on Thursday 11th September. By registering\, this provides you with
  access to the Moodle guide which is essential for the lab to function. Pl
 ease sign up ASAP even if you have been through this before\, as it will p
 ut you in the correct group to assist with supporting the event.
LOCATION:Virtual
DTSTART:20250912T080000Z
DTEND:20250912T140000Z
DTSTAMP:20250903T112842Z
ORGANIZER;CN=Cisco Security Workshops:MAILTO:no-reply@ciscosecurityworkshop
 .com
GEO:25;-80.226529
X-APPLE-STRUCTURED-LOCATION;VALUE=URI;X-ADDRESS=Virtual;X-APPLE-RADIUS=72;X
 -TITLE=Virtual:25;-80.226529
END:VEVENT
END:VCALENDAR