BEGIN:VCALENDAR
VERSION:2.0
PRODID:Events Booking
BEGIN:VEVENT
UID:69ea12b065c5b
SUMMARY:XDR Virtual Rapid Incident Response - COM EAST
DESCRIPTION:
 
 
 
 
 
 Experience a hands-on workshop built for SecO
 ps pros\, by SecOps pros.
 In the heat of a crisis\, every keystroke coun
 ts\, and indecision could cost your organization millions. What separates 
 security pros from security liabilities? A plan – and practice. Join us 
 for this hands-on Rapid Incident Response with Cisco XDR Workshop to devel
 op your skills and test your abilities. 
 Don’t miss your chance to:
   
 🎯 Develop your skills: Learn how to scope\, contain\, and era
 dicate threats like a pro. Enhance your Digital Forensics and Incident Res
 ponse and threat hunting expertise with greater speed\, efficiency and con
 fidence in our hands-on virtual lab. 
 🌐 Test your abilities: Put y
 our skills to the test by: 
 
 Identifying patterns and correlations in
  threat activity with root cause and attack chain analysis  
 Leveragi
 ng machine learning to prioritize incidents based on risk and impact 
 
 Elevating productivity with automated and guided remediations  
 
 Wh
 ether you are an experienced cybersecurity professional or a beginner\, th
 is workshop guarantees a mix of education\, excitement\, and engaging cont
 ent. Seize the chance\, upskill\, and leave no incident undetected. Secure
  your spot now and leave with a clear plan to take back to your organizati
 on.  
 Note: ~ We recommend using a second monitor or screen for this
  workshop.  ~ Please close down your applications and turn off your notif
 ications before the workshop starts. ~ We understand your time is valuabl
 e\; please plan for approximately 4 hours to complete the Rapid Incident R
 esponse with Cisco XDR workshop.   
 We look forward to seeing you ther
 e! 
 
LOCATION:Virtual
DTSTART:20250319T090000Z
DTEND:20250320T090000Z
DTSTAMP:20250319T124430Z
ORGANIZER;CN=Cisco Security Workshops:MAILTO:no-reply@ciscosecurityworkshop
 .com
GEO:25;-80.226529
X-APPLE-STRUCTURED-LOCATION;VALUE=URI;X-ADDRESS=Virtual;X-APPLE-RADIUS=72;X
 -TITLE=Virtual:25;-80.226529
END:VEVENT
END:VCALENDAR