BEGIN:VCALENDAR
VERSION:2.0
PRODID:Events Booking
BEGIN:VEVENT
UID:69ea13f0a4c91
SUMMARY:XDR Workshop for Ballad Health
DESCRIPTION:Rapid Incident Response with Cisco Extended Detection &amp\; Re
 sponse (XDR)
 
 🎯 Mission Briefing: Kick off your adventure with a ha
 nds-on lab designed to enhance your investigation and incident response ex
 pertise.
 🌐 Defend against sophisticated APTs with Cisco XDR: Learn ho
 w to empower your teams to go from endless investigation to remediating th
 e highest priority incidents with greater speed\, efficiency\, and confide
 nce. We will explore how to:
 · Identify patterns and correlations in th
 reat activity with root cause and attack chain analysis
 · Leverage mach
 ine learning to prioritize incidents based on risk and impact
 · Elevate
  productivity with automation and guidance
 🍽️ Refuel and Recharge:
  All that work sure works up an appetite! Join us for lunch to seize netwo
 rking opportunities within the cybersecurity community and cultivate valua
 ble connections.
LOCATION:Tennessee\, United States
DTSTART:20250930T190000Z
DTEND:20250930T213000Z
DTSTAMP:20250925T125640Z
ORGANIZER;CN=Cisco Security Workshops:MAILTO:no-reply@ciscosecurityworkshop
 .com
GEO:35.960395;-83.921026
X-APPLE-STRUCTURED-LOCATION;VALUE=URI;X-ADDRESS=Tennessee\, United States;X
 -APPLE-RADIUS=72;X-TITLE=Cisco Office - Knoxville\, TN:35.960395;-83.92102
 6
END:VEVENT
END:VCALENDAR