BEGIN:VCALENDAR
VERSION:2.0
PRODID:Events Booking
BEGIN:VEVENT
UID:69ea152e47e13
SUMMARY:XDRIgnite_AmsterdamNetherlands_24Nov25
DESCRIPTION:
LOCATION:Haarlerbergpark Haarlerbergweg 17 -19 Amsterdam\, North Holland 11
 01 CH Netherlands
DTSTART:20251124T080000Z
DTEND:20251124T180000Z
DTSTAMP:20251114T164727Z
ORGANIZER;CN=Cisco Security Workshops:MAILTO:no-reply@ciscosecurityworkshop
 .com
END:VEVENT
END:VCALENDAR