BEGIN:VCALENDAR
VERSION:2.0
PRODID:Events Booking
BEGIN:VEVENT
UID:69ea144c0d9e8
SUMMARY:XDRIgnite_AmsterdamNetherlands_4Feb26
DESCRIPTION:
LOCATION:Haarlerbergweg\, Amsterdam\, 1101CH North Holland\, Netherlands
DTSTART:20260204T070000Z
DTEND:20260204T160000Z
DTSTAMP:20250915T190449Z
ORGANIZER;CN=Cisco Security Workshops:MAILTO:no-reply@ciscosecurityworkshop
 .com
GEO:52.303591;4.952962
X-APPLE-STRUCTURED-LOCATION;VALUE=URI;X-ADDRESS=Haarlerbergweg\, Amsterdam\
 , 1101CH North Holland\, Netherlands;X-APPLE-RADIUS=72;X-TITLE=Cisco Amste
 rdam:52.303591;4.952962
END:VEVENT
END:VCALENDAR